BEGIN:VCALENDAR
VERSION:2.0
PRODID:-//Pictures London//Cinema Listings//EN
CALSCALE:GREGORIAN
METHOD:PUBLISH
X-WR-CALNAME:Pictures London Cinema
BEGIN:VEVENT
UID:5a6e6195-f436-45de-a952-206b59644bb5@pictures.london
DTSTART:20260422T124000Z
DTEND:20260422T144700Z
SUMMARY:Michael (2026) at Ealing Picturehouse
DESCRIPTION:Michael (2026)\nat Ealing Picturehouse\nBook: https://www.picturehouses.com/movie-details/031/HO00017772/michael\nvia Pictures (pictures.london)
LOCATION:Ealing Picturehouse\, The Ealing Cinema\, Ealing Green\, Ealing\, W5 2PA
URL:https://www.picturehouses.com/movie-details/031/HO00017772/michael
STATUS:CONFIRMED
END:VEVENT
END:VCALENDAR