BEGIN:VCALENDAR
VERSION:2.0
PRODID:-//Pictures London//Cinema Listings//EN
CALSCALE:GREGORIAN
METHOD:PUBLISH
X-WR-CALNAME:Pictures London Cinema
BEGIN:VEVENT
UID:5a627e5d-5843-4809-bd0d-9a66febd7c2a@pictures.london
DTSTART:20260531T130000Z
DTEND:20260531T150000Z
SUMMARY:Women from Hackney's History Premiere + Panel (2026) at Rio Cinema
DESCRIPTION:Women from Hackney's History Premiere + Panel (2026)\nat Rio Cinema\nBook: https://riocinema.org.uk/Rio.dll/WhatsOn?f=2236479\nvia Pictures (pictures.london)
LOCATION:Rio Cinema\, 107 Kingsland High Street\, Dalston\, E8 2PB
URL:https://riocinema.org.uk/Rio.dll/WhatsOn?f=2236479
STATUS:CONFIRMED
END:VEVENT
END:VCALENDAR