BEGIN:VCALENDAR
VERSION:2.0
PRODID:-//Pictures London//Cinema Listings//EN
CALSCALE:GREGORIAN
METHOD:PUBLISH
X-WR-CALNAME:Pictures London Cinema
BEGIN:VEVENT
UID:59d92971-fd48-48f5-8651-33e68b89ea61@pictures.london
DTSTART:20260427T200000Z
DTEND:20260427T211700Z
SUMMARY:Jo in the Water (2026) at Greenwich Picturehouse
DESCRIPTION:Jo in the Water (2026)\nat Greenwich Picturehouse\nEvent: q and a\nBook: https://www.picturehouses.com/movie-details/021/HO00017663/green-screen-jo-in-the-water-q-a\nvia Pictures (pictures.london)
LOCATION:Greenwich Picturehouse\, 180 Greenwich High Road\, Greenwich\, SE10 9HB
URL:https://www.picturehouses.com/movie-details/021/HO00017663/green-screen-jo-in-the-water-q-a
STATUS:CONFIRMED
END:VEVENT
END:VCALENDAR