BEGIN:VCALENDAR
VERSION:2.0
PRODID:-//Pictures London//Cinema Listings//EN
CALSCALE:GREGORIAN
METHOD:PUBLISH
X-WR-CALNAME:Pictures London Cinema
BEGIN:VEVENT
UID:59d43dc3-d0c9-4f7f-941b-6ab09d5a2741@pictures.london
DTSTART:20260501T180000Z
DTEND:20260501T195900Z
SUMMARY:The Devil Wears Prada 2 (2026) at The Ritzy
DESCRIPTION:The Devil Wears Prada 2 (2026)\nat The Ritzy\nBook: https://www.picturehouses.com/movie-details/004/HO00017738/the-devil-wears-prada-2\nvia Pictures (pictures.london)
LOCATION:The Ritzy\, Brixton Oval\, Coldharbour Lane\, Brixton\, SW2 1JG
URL:https://www.picturehouses.com/movie-details/004/HO00017738/the-devil-wears-prada-2
STATUS:CONFIRMED
END:VEVENT
END:VCALENDAR