BEGIN:VCALENDAR
VERSION:2.0
PRODID:-//Pictures London//Cinema Listings//EN
CALSCALE:GREGORIAN
METHOD:PUBLISH
X-WR-CALNAME:Pictures London Cinema
BEGIN:VEVENT
UID:59120aa9-3d54-4a72-b784-8508ab6fbe5f@pictures.london
DTSTART:20260424T173000Z
DTEND:20260424T190300Z
SUMMARY:The Lady in Red (1979) at The Nickel
DESCRIPTION:The Lady in Red (1979)\nat The Nickel\nFormat: DIGITAL\nBook: https://book.thenickel.co.uk/screening/282\nvia Pictures (pictures.london)
LOCATION:The Nickel\, 194 Upper Street\, Islington\, N1 1RQ
URL:https://book.thenickel.co.uk/screening/282
STATUS:CONFIRMED
END:VEVENT
END:VCALENDAR