BEGIN:VCALENDAR
VERSION:2.0
PRODID:-//Pictures London//Cinema Listings//EN
CALSCALE:GREGORIAN
METHOD:PUBLISH
X-WR-CALNAME:Pictures London Cinema
BEGIN:VEVENT
UID:58f8ca5b-9fac-4279-8748-a431fc4533f8@pictures.london
DTSTART:20260421T110000Z
DTEND:20260421T130400Z
SUMMARY:Akira (1988) at Curzon Aldgate
DESCRIPTION:Akira (1988)\nat Curzon Aldgate\nBook: https://www.curzon.com/films/akira-2026-re-release-dubbed/HO00006969/\nvia Pictures (pictures.london)
LOCATION:Curzon Aldgate\, 2 Whitechapel High Street\, Aldgate\, E1 8FA
URL:https://www.curzon.com/films/akira-2026-re-release-dubbed/HO00006969/
STATUS:CONFIRMED
END:VEVENT
END:VCALENDAR