BEGIN:VCALENDAR
VERSION:2.0
PRODID:-//Pictures London//Cinema Listings//EN
CALSCALE:GREGORIAN
METHOD:PUBLISH
X-WR-CALNAME:Pictures London Cinema
BEGIN:VEVENT
UID:58c20fb0-08b8-49c4-a063-5e204d7bafae@pictures.london
DTSTART:20260421T204000Z
DTEND:20260421T225400Z
SUMMARY:Lee Cronin's The Mummy (2026) at Peckhamplex
DESCRIPTION:Lee Cronin's The Mummy (2026)\nat Peckhamplex\nBook: https://ticketing.eu.veezi.com/purchase/79576?siteToken=zkD3Bh7H%2fkuZI9VTgCj%2bgg%3d%3d\nvia Pictures (pictures.london)
LOCATION:Peckhamplex\, 95A Rye Lane\, Peckham\, SE15 4ST
URL:https://ticketing.eu.veezi.com/purchase/79576?siteToken=zkD3Bh7H%2fkuZI9VTgCj%2bgg%3d%3d
STATUS:CONFIRMED
END:VEVENT
END:VCALENDAR