BEGIN:VCALENDAR
VERSION:2.0
PRODID:-//Pictures London//Cinema Listings//EN
CALSCALE:GREGORIAN
METHOD:PUBLISH
X-WR-CALNAME:Pictures London Cinema
BEGIN:VEVENT
UID:58b51e96-13fe-43e3-9117-74679e0ccada@pictures.london
DTSTART:20260421T141500Z
DTEND:20260421T155300Z
SUMMARY:The Super Mario Galaxy Movie (2026) at Curzon Victoria
DESCRIPTION:The Super Mario Galaxy Movie (2026)\nat Curzon Victoria\nBook: https://www.curzon.com/films/the-super-mario-galaxy-movie/HO00006890/\nvia Pictures (pictures.london)
LOCATION:Curzon Victoria\, 58 Victoria Street\, Victoria\, SW1E 5JA
URL:https://www.curzon.com/films/the-super-mario-galaxy-movie/HO00006890/
STATUS:CONFIRMED
END:VEVENT
END:VCALENDAR