BEGIN:VCALENDAR
VERSION:2.0
PRODID:-//Pictures London//Cinema Listings//EN
CALSCALE:GREGORIAN
METHOD:PUBLISH
X-WR-CALNAME:Pictures London Cinema
BEGIN:VEVENT
UID:5797d3e1-e4d9-43c0-a791-8be28853bd84@pictures.london
DTSTART:20260424T190000Z
DTEND:20260424T205200Z
SUMMARY:Mother Mary (2026) at Curzon Soho
DESCRIPTION:Mother Mary (2026)\nat Curzon Soho\nBook: https://www.curzon.com/films/mother-mary/HO00006899/\nvia Pictures (pictures.london)
LOCATION:Curzon Soho\, 99 Shaftesbury Avenue\, Soho\, W1D 5DY
URL:https://www.curzon.com/films/mother-mary/HO00006899/
STATUS:CONFIRMED
END:VEVENT
END:VCALENDAR