BEGIN:VCALENDAR
VERSION:2.0
PRODID:-//Pictures London//Cinema Listings//EN
CALSCALE:GREGORIAN
METHOD:PUBLISH
X-WR-CALNAME:Pictures London Cinema
BEGIN:VEVENT
UID:579722c4-b505-4965-9870-4008f048a66d@pictures.london
DTSTART:20260421T110000Z
DTEND:20260421T130000Z
SUMMARY:AKIRA (2026 Re-release) (Subbed) (2026) at Curzon Aldgate
DESCRIPTION:AKIRA (2026 Re-release) (Subbed) (2026)\nat Curzon Aldgate\nBook: https://www.curzon.com/films/akira-2026-re-release-dubbed/HO00006969/\nvia Pictures (pictures.london)
LOCATION:Curzon Aldgate\, 2 Whitechapel High Street\, Aldgate\, E1 8FA
URL:https://www.curzon.com/films/akira-2026-re-release-dubbed/HO00006969/
STATUS:CONFIRMED
END:VEVENT
END:VCALENDAR