BEGIN:VCALENDAR
VERSION:2.0
PRODID:-//Pictures London//Cinema Listings//EN
CALSCALE:GREGORIAN
METHOD:PUBLISH
X-WR-CALNAME:Pictures London Cinema
BEGIN:VEVENT
UID:572c84bf-0fef-41d2-8f4f-9a057c0d4553@pictures.london
DTSTART:20260422T131500Z
DTEND:20260422T152200Z
SUMMARY:Michael (2026) at Everyman Stratford International
DESCRIPTION:Michael (2026)\nat Everyman Stratford International\nBook: https://purchase.everymancinema.com/launch/ticketing/31ae2c61-dfad-5ea9-81f8-80f6db2793ae\nvia Pictures (pictures.london)
LOCATION:Everyman Stratford International\, International Way\, Stratford\, E20 1GL
URL:https://purchase.everymancinema.com/launch/ticketing/31ae2c61-dfad-5ea9-81f8-80f6db2793ae
STATUS:CONFIRMED
END:VEVENT
END:VCALENDAR