BEGIN:VCALENDAR
VERSION:2.0
PRODID:-//Pictures London//Cinema Listings//EN
CALSCALE:GREGORIAN
METHOD:PUBLISH
X-WR-CALNAME:Pictures London Cinema
BEGIN:VEVENT
UID:5714266f-ae7c-41d2-9137-0dc6b944fe2f@pictures.london
DTSTART:20260421T134500Z
DTEND:20260421T162200Z
SUMMARY:Project Hail Mary (2026) at Everyman Broadgate
DESCRIPTION:Project Hail Mary (2026)\nat Everyman Broadgate\nBook: https://purchase.everymancinema.com/launch/ticketing/5bef6cde-6d5e-5224-82d9-2689d3156e8f\nvia Pictures (pictures.london)
LOCATION:Everyman Broadgate\, Broadgate Circle\, Liverpool Street\, EC2M 2QS
URL:https://purchase.everymancinema.com/launch/ticketing/5bef6cde-6d5e-5224-82d9-2689d3156e8f
STATUS:CONFIRMED
END:VEVENT
END:VCALENDAR