BEGIN:VCALENDAR
VERSION:2.0
PRODID:-//Pictures London//Cinema Listings//EN
CALSCALE:GREGORIAN
METHOD:PUBLISH
X-WR-CALNAME:Pictures London Cinema
BEGIN:VEVENT
UID:570f13ee-f48d-4d76-9be6-833428acca04@pictures.london
DTSTART:20260501T174500Z
DTEND:20260501T194400Z
SUMMARY:The Devil Wears Prada 2 (2026) at Everyman Barnet
DESCRIPTION:The Devil Wears Prada 2 (2026)\nat Everyman Barnet\nBook: https://purchase.everymancinema.com/launch/ticketing/a51c0b72-5e7a-532c-8281-9241f847c7ef\nvia Pictures (pictures.london)
LOCATION:Everyman Barnet\, Great North Road\, Barnet\, EN5 5SJ
URL:https://purchase.everymancinema.com/launch/ticketing/a51c0b72-5e7a-532c-8281-9241f847c7ef
STATUS:CONFIRMED
END:VEVENT
END:VCALENDAR