BEGIN:VCALENDAR
VERSION:2.0
PRODID:-//Pictures London//Cinema Listings//EN
CALSCALE:GREGORIAN
METHOD:PUBLISH
X-WR-CALNAME:Pictures London Cinema
BEGIN:VEVENT
UID:562b89e2-4f45-494f-a8a0-0e8f52aea643@pictures.london
DTSTART:20260424T201000Z
DTEND:20260424T220200Z
SUMMARY:Mother Mary (2026) at Curzon Kingston
DESCRIPTION:Mother Mary (2026)\nat Curzon Kingston\nBook: https://www.curzon.com/films/mother-mary/HO00006899/\nvia Pictures (pictures.london)
LOCATION:Curzon Kingston\, Richmond Road\, Kingston\, KT2 5BW
URL:https://www.curzon.com/films/mother-mary/HO00006899/
STATUS:CONFIRMED
END:VEVENT
END:VCALENDAR