BEGIN:VCALENDAR
VERSION:2.0
PRODID:-//Pictures London//Cinema Listings//EN
CALSCALE:GREGORIAN
METHOD:PUBLISH
X-WR-CALNAME:Pictures London Cinema
BEGIN:VEVENT
UID:55dfd014-8216-41be-8211-d27def580156@pictures.london
DTSTART:20260424T145000Z
DTEND:20260424T170900Z
SUMMARY:Fight Club (1999) at Finsbury Park Picturehouse
DESCRIPTION:Fight Club (1999)\nat Finsbury Park Picturehouse\nFormat: DCP_4K\nBook: https://www.picturehouses.com/movie-details/029/HO00017875/fight-club-4k-re-release\nvia Pictures (pictures.london)
LOCATION:Finsbury Park Picturehouse\, Unit B\, Finsbury Park Station\, Finsbury Park\, N4 3FP
URL:https://www.picturehouses.com/movie-details/029/HO00017875/fight-club-4k-re-release
STATUS:CONFIRMED
END:VEVENT
END:VCALENDAR