BEGIN:VCALENDAR
VERSION:2.0
PRODID:-//Pictures London//Cinema Listings//EN
CALSCALE:GREGORIAN
METHOD:PUBLISH
X-WR-CALNAME:Pictures London Cinema
BEGIN:VEVENT
UID:5547e203-eacf-4a50-941d-81ace939dee9@pictures.london
DTSTART:20260421T133000Z
DTEND:20260421T151700Z
SUMMARY:California Schemin' (2026) at Clapham Picturehouse
DESCRIPTION:California Schemin' (2026)\nat Clapham Picturehouse\nBook: https://www.picturehouses.com/movie-details/020/HO00017757/california-schemin\nvia Pictures (pictures.london)
LOCATION:Clapham Picturehouse\, 76 Venn Street\, Clapham\, SW4 7UL
URL:https://www.picturehouses.com/movie-details/020/HO00017757/california-schemin
STATUS:CONFIRMED
END:VEVENT
END:VCALENDAR