BEGIN:VCALENDAR
VERSION:2.0
PRODID:-//Pictures London//Cinema Listings//EN
CALSCALE:GREGORIAN
METHOD:PUBLISH
X-WR-CALNAME:Pictures London Cinema
BEGIN:VEVENT
UID:552ed1e0-ba4c-4abf-8084-0a8e6f3a7f9a@pictures.london
DTSTART:20260421T174000Z
DTEND:20260421T192500Z
SUMMARY:The Drama (2026) at Hackney Picturehouse
DESCRIPTION:The Drama (2026)\nat Hackney Picturehouse\nBook: https://www.picturehouses.com/movie-details/010/HO00017737/the-drama\nvia Pictures (pictures.london)
LOCATION:Hackney Picturehouse\, 270 Mare Street\, Hackney\, E8 1EJ
URL:https://www.picturehouses.com/movie-details/010/HO00017737/the-drama
STATUS:CONFIRMED
END:VEVENT
END:VCALENDAR