BEGIN:VCALENDAR
VERSION:2.0
PRODID:-//Pictures London//Cinema Listings//EN
CALSCALE:GREGORIAN
METHOD:PUBLISH
X-WR-CALNAME:Pictures London Cinema
BEGIN:VEVENT
UID:551ee1e2-c1a6-4760-930c-13ec05612539@pictures.london
DTSTART:20260422T140000Z
DTEND:20260422T155000Z
SUMMARY:The Magic Faraway Tree (2026) at Greenwich Picturehouse
DESCRIPTION:The Magic Faraway Tree (2026)\nat Greenwich Picturehouse\nBook: https://www.picturehouses.com/movie-details/021/HO00017688/the-magic-faraway-tree\nvia Pictures (pictures.london)
LOCATION:Greenwich Picturehouse\, 180 Greenwich High Road\, Greenwich\, SE10 9HB
URL:https://www.picturehouses.com/movie-details/021/HO00017688/the-magic-faraway-tree
STATUS:CONFIRMED
END:VEVENT
END:VCALENDAR