BEGIN:VCALENDAR
VERSION:2.0
PRODID:-//Pictures London//Cinema Listings//EN
CALSCALE:GREGORIAN
METHOD:PUBLISH
X-WR-CALNAME:Pictures London Cinema
BEGIN:VEVENT
UID:54c00080-97a8-44ef-ac2d-13823ae40d60@pictures.london
DTSTART:20260430T183000Z
DTEND:20260430T201500Z
SUMMARY:Dressed to Kill (1980) at Rio Cinema
DESCRIPTION:Dressed to Kill (1980)\nat Rio Cinema\nBook: https://riocinema.org.uk/Rio.dll/WhatsOn?f=2464929\nvia Pictures (pictures.london)
LOCATION:Rio Cinema\, 107 Kingsland High Street\, Dalston\, E8 2PB
URL:https://riocinema.org.uk/Rio.dll/WhatsOn?f=2464929
STATUS:CONFIRMED
END:VEVENT
END:VCALENDAR