BEGIN:VCALENDAR
VERSION:2.0
PRODID:-//Pictures London//Cinema Listings//EN
CALSCALE:GREGORIAN
METHOD:PUBLISH
X-WR-CALNAME:Pictures London Cinema
BEGIN:VEVENT
UID:54550e7b-3f6a-4c34-a2f6-905f90cd8960@pictures.london
DTSTART:20260421T194500Z
DTEND:20260421T213000Z
SUMMARY:The Drama (2026) at Barbican Cinema
DESCRIPTION:The Drama (2026)\nat Barbican Cinema\nBook: https://tickets.barbican.org.uk/choose-seats/3470205\nvia Pictures (pictures.london)
LOCATION:Barbican Cinema\, Silk Street\, Barbican\, EC2Y 8DS
URL:https://tickets.barbican.org.uk/choose-seats/3470205
STATUS:CONFIRMED
END:VEVENT
END:VCALENDAR