BEGIN:VCALENDAR
VERSION:2.0
PRODID:-//Pictures London//Cinema Listings//EN
CALSCALE:GREGORIAN
METHOD:PUBLISH
X-WR-CALNAME:Pictures London Cinema
BEGIN:VEVENT
UID:54382784-b19e-4197-ae83-9d79833ef535@pictures.london
DTSTART:20260421T141000Z
DTEND:20260421T161400Z
SUMMARY:Akira (1988) at Curzon Soho
DESCRIPTION:Akira (1988)\nat Curzon Soho\nBook: https://www.curzon.com/films/akira-2026-re-release-subbed/HO00006970/\nvia Pictures (pictures.london)
LOCATION:Curzon Soho\, 99 Shaftesbury Avenue\, Soho\, W1D 5DY
URL:https://www.curzon.com/films/akira-2026-re-release-subbed/HO00006970/
STATUS:CONFIRMED
END:VEVENT
END:VCALENDAR