BEGIN:VCALENDAR
VERSION:2.0
PRODID:-//Pictures London//Cinema Listings//EN
CALSCALE:GREGORIAN
METHOD:PUBLISH
X-WR-CALNAME:Pictures London Cinema
BEGIN:VEVENT
UID:53b62593-3d15-4489-8f6a-f8b012ce5a74@pictures.london
DTSTART:20260421T193000Z
DTEND:20260421T205600Z
SUMMARY:Miroirs No. 3 (2025) at Garden Cinema
DESCRIPTION:Miroirs No. 3 (2025)\nat Garden Cinema\nBook: https://bookings.thegardencinema.co.uk/TheGardenCinema.dll/TSelectItems.waSelectItemsPrompt.TcsWebMenuItem_0.TcsWebTab_0.TcsPerformance_5197700.TcsSection_971\nvia Pictures (pictures.london)
LOCATION:Garden Cinema\, 39-41 Parker Street\, Covent Garden\, WC2B 5PQ
URL:https://bookings.thegardencinema.co.uk/TheGardenCinema.dll/TSelectItems.waSelectItemsPrompt.TcsWebMenuItem_0.TcsWebTab_0.TcsPerformance_5197700.TcsSection_971
STATUS:CONFIRMED
END:VEVENT
END:VCALENDAR