BEGIN:VCALENDAR
VERSION:2.0
PRODID:-//Pictures London//Cinema Listings//EN
CALSCALE:GREGORIAN
METHOD:PUBLISH
X-WR-CALNAME:Pictures London Cinema
BEGIN:VEVENT
UID:52d664ec-21a3-4d17-8164-359c0e4ac87d@pictures.london
DTSTART:20260421T152000Z
DTEND:20260421T171700Z
SUMMARY:The Stranger (2022) at Hackney Picturehouse
DESCRIPTION:The Stranger (2022)\nat Hackney Picturehouse\nBook: https://www.picturehouses.com/movie-details/010/HO00017653/the-stranger\nvia Pictures (pictures.london)
LOCATION:Hackney Picturehouse\, 270 Mare Street\, Hackney\, E8 1EJ
URL:https://www.picturehouses.com/movie-details/010/HO00017653/the-stranger
STATUS:CONFIRMED
END:VEVENT
END:VCALENDAR