BEGIN:VCALENDAR
VERSION:2.0
PRODID:-//Pictures London//Cinema Listings//EN
CALSCALE:GREGORIAN
METHOD:PUBLISH
X-WR-CALNAME:Pictures London Cinema
BEGIN:VEVENT
UID:52ad5f93-45d2-45ab-ba95-35dd1d87e0ce@pictures.london
DTSTART:20260426T190000Z
DTEND:20260426T194000Z
SUMMARY:Skateboard Film Club: First Broadcast (2001) at Rich Mix
DESCRIPTION:Skateboard Film Club: First Broadcast (2001)\nat Rich Mix\nBook: https://richmix.org.uk/whats-on/cinema/skateboard-film-club-first-broadcast/\nvia Pictures (pictures.london)
LOCATION:Rich Mix\, 35-47 Bethnal Green Road\, Shoreditch\, E1 6LA
URL:https://richmix.org.uk/whats-on/cinema/skateboard-film-club-first-broadcast/
STATUS:CONFIRMED
END:VEVENT
END:VCALENDAR