BEGIN:VCALENDAR
VERSION:2.0
PRODID:-//Pictures London//Cinema Listings//EN
CALSCALE:GREGORIAN
METHOD:PUBLISH
X-WR-CALNAME:Pictures London Cinema
BEGIN:VEVENT
UID:5197c2f8-6440-43b5-b017-3bc178155dc1@pictures.london
DTSTART:20260421T163000Z
DTEND:20260421T181500Z
SUMMARY:The Drama (2026) at East Dulwich Picturehouse
DESCRIPTION:The Drama (2026)\nat East Dulwich Picturehouse\nBook: https://www.picturehouses.com/movie-details/009/HO00017737/the-drama\nvia Pictures (pictures.london)
LOCATION:East Dulwich Picturehouse\, Lordship Lane\, East Dulwich\, SE22 8EW
URL:https://www.picturehouses.com/movie-details/009/HO00017737/the-drama
STATUS:CONFIRMED
END:VEVENT
END:VCALENDAR