BEGIN:VCALENDAR
VERSION:2.0
PRODID:-//Pictures London//Cinema Listings//EN
CALSCALE:GREGORIAN
METHOD:PUBLISH
X-WR-CALNAME:Pictures London Cinema
BEGIN:VEVENT
UID:51397788-33e5-44a7-9f66-207712f667cb@pictures.london
DTSTART:20260421T174000Z
DTEND:20260421T192500Z
SUMMARY:The Drama (2026) at Curzon Soho
DESCRIPTION:The Drama (2026)\nat Curzon Soho\nBook: https://www.curzon.com/films/the-drama/HO00006892/\nvia Pictures (pictures.london)
LOCATION:Curzon Soho\, 99 Shaftesbury Avenue\, Soho\, W1D 5DY
URL:https://www.curzon.com/films/the-drama/HO00006892/
STATUS:CONFIRMED
END:VEVENT
END:VCALENDAR