BEGIN:VCALENDAR
VERSION:2.0
PRODID:-//Pictures London//Cinema Listings//EN
CALSCALE:GREGORIAN
METHOD:PUBLISH
X-WR-CALNAME:Pictures London Cinema
BEGIN:VEVENT
UID:50fb0c87-7ca8-4cb6-91f8-6ae333a73742@pictures.london
DTSTART:20260421T154000Z
DTEND:20260421T174000Z
SUMMARY:AKIRA (2026 Re-release) (Subbed) (2026) at Ealing Picturehouse
DESCRIPTION:AKIRA (2026 Re-release) (Subbed) (2026)\nat Ealing Picturehouse\nBook: https://www.picturehouses.com/movie-details/031/HO00017693/akira-2026-re-release\nvia Pictures (pictures.london)
LOCATION:Ealing Picturehouse\, The Ealing Cinema\, Ealing Green\, Ealing\, W5 2PA
URL:https://www.picturehouses.com/movie-details/031/HO00017693/akira-2026-re-release
STATUS:CONFIRMED
END:VEVENT
END:VCALENDAR