BEGIN:VCALENDAR
VERSION:2.0
PRODID:-//Pictures London//Cinema Listings//EN
CALSCALE:GREGORIAN
METHOD:PUBLISH
X-WR-CALNAME:Pictures London Cinema
BEGIN:VEVENT
UID:50b5fb00-9fb5-4974-ac5b-168373d0ae44@pictures.london
DTSTART:20260421T194500Z
DTEND:20260421T213000Z
SUMMARY:The Drama (2026) at Everyman Muswell Hill
DESCRIPTION:The Drama (2026)\nat Everyman Muswell Hill\nBook: https://purchase.everymancinema.com/launch/ticketing/bd38bb63-afb5-5ca0-bbaa-0ffe3885cc70\nvia Pictures (pictures.london)
LOCATION:Everyman Muswell Hill\, Fortis Green Road\, Muswell Hill\, N10 3TD
URL:https://purchase.everymancinema.com/launch/ticketing/bd38bb63-afb5-5ca0-bbaa-0ffe3885cc70
STATUS:CONFIRMED
END:VEVENT
END:VCALENDAR