BEGIN:VCALENDAR
VERSION:2.0
PRODID:-//Pictures London//Cinema Listings//EN
CALSCALE:GREGORIAN
METHOD:PUBLISH
X-WR-CALNAME:Pictures London Cinema
BEGIN:VEVENT
UID:5075237f-9f30-4367-922b-5e2912554fa4@pictures.london
DTSTART:20260421T191500Z
DTEND:20260421T215200Z
SUMMARY:Project Hail Mary (2026) at Castle Sidcup
DESCRIPTION:Project Hail Mary (2026)\nat Castle Sidcup\nBook: https://castlesidcup.com/bookings/1813/\nvia Pictures (pictures.london)
LOCATION:Castle Sidcup\, 44 Main Road\, Sidcup\, DA14 6NJ
URL:https://castlesidcup.com/bookings/1813/
STATUS:CONFIRMED
END:VEVENT
END:VCALENDAR