BEGIN:VCALENDAR
VERSION:2.0
PRODID:-//Pictures London//Cinema Listings//EN
CALSCALE:GREGORIAN
METHOD:PUBLISH
X-WR-CALNAME:Pictures London Cinema
BEGIN:VEVENT
UID:502129f2-1e3d-4513-a199-1ee8bbd40449@pictures.london
DTSTART:20260420T202500Z
DTEND:20260420T221000Z
SUMMARY:You\, Me & Tuscany (2026) at Peckhamplex
DESCRIPTION:You\, Me & Tuscany (2026)\nat Peckhamplex\nBook: https://ticketing.eu.veezi.com/purchase/79567?siteToken=zkD3Bh7H%2fkuZI9VTgCj%2bgg%3d%3d\nvia Pictures (pictures.london)
LOCATION:Peckhamplex\, 95A Rye Lane\, Peckham\, SE15 4ST
URL:https://ticketing.eu.veezi.com/purchase/79567?siteToken=zkD3Bh7H%2fkuZI9VTgCj%2bgg%3d%3d
STATUS:CONFIRMED
END:VEVENT
END:VCALENDAR