BEGIN:VCALENDAR
VERSION:2.0
PRODID:-//Pictures London//Cinema Listings//EN
CALSCALE:GREGORIAN
METHOD:PUBLISH
X-WR-CALNAME:Pictures London Cinema
BEGIN:VEVENT
UID:4fa64018-4f0e-48ac-9461-e0019356b402@pictures.london
DTSTART:20260514T170000Z
DTEND:20260514T183300Z
SUMMARY:The General (2026) at Curzon Hoxton
DESCRIPTION:The General (2026)\nat Curzon Hoxton\nBook: https://www.curzon.com/films/film-club-the-general/HO00006967/\nvia Pictures (pictures.london)
LOCATION:Curzon Hoxton\, 58 Pitfield Street\, Hoxton\, N1 6NU
URL:https://www.curzon.com/films/film-club-the-general/HO00006967/
STATUS:CONFIRMED
END:VEVENT
END:VCALENDAR