BEGIN:VCALENDAR
VERSION:2.0
PRODID:-//Pictures London//Cinema Listings//EN
CALSCALE:GREGORIAN
METHOD:PUBLISH
X-WR-CALNAME:Pictures London Cinema
BEGIN:VEVENT
UID:4e7d2095-b7fe-4618-91ca-826bf6e57260@pictures.london
DTSTART:20260421T151500Z
DTEND:20260421T165100Z
SUMMARY:Rebuilding (2025) at Everyman Muswell Hill
DESCRIPTION:Rebuilding (2025)\nat Everyman Muswell Hill\nBook: https://purchase.everymancinema.com/launch/ticketing/aa002446-cbfe-55c0-94ca-e0762ab09bc5\nvia Pictures (pictures.london)
LOCATION:Everyman Muswell Hill\, Fortis Green Road\, Muswell Hill\, N10 3TD
URL:https://purchase.everymancinema.com/launch/ticketing/aa002446-cbfe-55c0-94ca-e0762ab09bc5
STATUS:CONFIRMED
END:VEVENT
END:VCALENDAR