BEGIN:VCALENDAR
VERSION:2.0
PRODID:-//Pictures London//Cinema Listings//EN
CALSCALE:GREGORIAN
METHOD:PUBLISH
X-WR-CALNAME:Pictures London Cinema
BEGIN:VEVENT
UID:4e5b32b9-c73e-4d9c-bf19-9b148ce61afe@pictures.london
DTSTART:20260428T175000Z
DTEND:20260428T193700Z
SUMMARY:Hokum (2026) at Clapham Picturehouse
DESCRIPTION:Hokum (2026)\nat Clapham Picturehouse\nEvent: preview\nBook: https://www.picturehouses.com/movie-details/020/HO00017849/hokum\nvia Pictures (pictures.london)
LOCATION:Clapham Picturehouse\, 76 Venn Street\, Clapham\, SW4 7UL
URL:https://www.picturehouses.com/movie-details/020/HO00017849/hokum
STATUS:CONFIRMED
END:VEVENT
END:VCALENDAR