BEGIN:VCALENDAR
VERSION:2.0
PRODID:-//Pictures London//Cinema Listings//EN
CALSCALE:GREGORIAN
METHOD:PUBLISH
X-WR-CALNAME:Pictures London Cinema
BEGIN:VEVENT
UID:4de2e02a-fd29-43c7-8899-7e4effa8775c@pictures.london
DTSTART:20260501T160000Z
DTEND:20260501T175900Z
SUMMARY:The Devil Wears Prada 2 (2026) at Everyman Muswell Hill
DESCRIPTION:The Devil Wears Prada 2 (2026)\nat Everyman Muswell Hill\nBook: https://purchase.everymancinema.com/launch/ticketing/879e7b96-49b3-51e0-a745-963623b8cc6b\nvia Pictures (pictures.london)
LOCATION:Everyman Muswell Hill\, Fortis Green Road\, Muswell Hill\, N10 3TD
URL:https://purchase.everymancinema.com/launch/ticketing/879e7b96-49b3-51e0-a745-963623b8cc6b
STATUS:CONFIRMED
END:VEVENT
END:VCALENDAR