BEGIN:VCALENDAR
VERSION:2.0
PRODID:-//Pictures London//Cinema Listings//EN
CALSCALE:GREGORIAN
METHOD:PUBLISH
X-WR-CALNAME:Pictures London Cinema
BEGIN:VEVENT
UID:4d28b979-880b-4d6f-8fd4-ed4ac0cd6c27@pictures.london
DTSTART:20260422T172000Z
DTEND:20260422T192700Z
SUMMARY:Michael (2026) at Curzon Aldgate
DESCRIPTION:Michael (2026)\nat Curzon Aldgate\nBook: https://www.curzon.com/films/michael/HO00006898/\nvia Pictures (pictures.london)
LOCATION:Curzon Aldgate\, 2 Whitechapel High Street\, Aldgate\, E1 8FA
URL:https://www.curzon.com/films/michael/HO00006898/
STATUS:CONFIRMED
END:VEVENT
END:VCALENDAR