BEGIN:VCALENDAR
VERSION:2.0
PRODID:-//Pictures London//Cinema Listings//EN
CALSCALE:GREGORIAN
METHOD:PUBLISH
X-WR-CALNAME:Pictures London Cinema
BEGIN:VEVENT
UID:4d0c309d-f9d1-44b1-95bc-1372cff70676@pictures.london
DTSTART:20260421T200000Z
DTEND:20260421T215000Z
SUMMARY:Father Mother Sister Brother (2025) at Curzon Bloomsbury
DESCRIPTION:Father Mother Sister Brother (2025)\nat Curzon Bloomsbury\nBook: https://www.curzon.com/films/father-mother-sister-brother/HO00006894/\nvia Pictures (pictures.london)
LOCATION:Curzon Bloomsbury\, The Brunswick Centre\, Bloomsbury\, WC1H 8AG
URL:https://www.curzon.com/films/father-mother-sister-brother/HO00006894/
STATUS:CONFIRMED
END:VEVENT
END:VCALENDAR