BEGIN:VCALENDAR
VERSION:2.0
PRODID:-//Pictures London//Cinema Listings//EN
CALSCALE:GREGORIAN
METHOD:PUBLISH
X-WR-CALNAME:Pictures London Cinema
BEGIN:VEVENT
UID:4d0267ea-2bf5-401b-8dd1-2b14f6a4f5c2@pictures.london
DTSTART:20260501T100000Z
DTEND:20260501T115900Z
SUMMARY:The Devil Wears Prada 2 (2026) at Everyman Maida Vale
DESCRIPTION:The Devil Wears Prada 2 (2026)\nat Everyman Maida Vale\nBook: https://purchase.everymancinema.com/launch/ticketing/ede8ed54-e10d-52c2-acdd-d0958cf0b69f\nvia Pictures (pictures.london)
LOCATION:Everyman Maida Vale\, 215 Sutherland Avenue\, Maida Vale\, W9 1TT
URL:https://purchase.everymancinema.com/launch/ticketing/ede8ed54-e10d-52c2-acdd-d0958cf0b69f
STATUS:CONFIRMED
END:VEVENT
END:VCALENDAR