BEGIN:VCALENDAR
VERSION:2.0
PRODID:-//Pictures London//Cinema Listings//EN
CALSCALE:GREGORIAN
METHOD:PUBLISH
X-WR-CALNAME:Pictures London Cinema
BEGIN:VEVENT
UID:4c8962b8-5f82-4e59-b514-4c9be5270002@pictures.london
DTSTART:20260428T190000Z
DTEND:20260428T204700Z
SUMMARY:Hokum (2026) at Picturehouse Central
DESCRIPTION:Hokum (2026)\nat Picturehouse Central\nEvent: preview\nBook: https://www.picturehouses.com/movie-details/022/HO00017849/hokum\nvia Pictures (pictures.london)
LOCATION:Picturehouse Central\, Corner of Great Windmill Street & Shaftesbury Avenue\, West End\, W1D 7DH
URL:https://www.picturehouses.com/movie-details/022/HO00017849/hokum
STATUS:CONFIRMED
END:VEVENT
END:VCALENDAR