BEGIN:VCALENDAR
VERSION:2.0
PRODID:-//Pictures London//Cinema Listings//EN
CALSCALE:GREGORIAN
METHOD:PUBLISH
X-WR-CALNAME:Pictures London Cinema
BEGIN:VEVENT
UID:4c14eaf2-1be1-42ef-8e75-9ce2ee7ae3fc@pictures.london
DTSTART:20260421T103000Z
DTEND:20260421T105500Z
SUMMARY:Tabby McTat (2024) at East Dulwich Picturehouse
DESCRIPTION:Tabby McTat (2024)\nat East Dulwich Picturehouse\nBook: https://www.picturehouses.com/movie-details/009/HO00015460/tabby-mctat\nvia Pictures (pictures.london)
LOCATION:East Dulwich Picturehouse\, Lordship Lane\, East Dulwich\, SE22 8EW
URL:https://www.picturehouses.com/movie-details/009/HO00015460/tabby-mctat
STATUS:CONFIRMED
END:VEVENT
END:VCALENDAR