BEGIN:VCALENDAR
VERSION:2.0
PRODID:-//Pictures London//Cinema Listings//EN
CALSCALE:GREGORIAN
METHOD:PUBLISH
X-WR-CALNAME:Pictures London Cinema
BEGIN:VEVENT
UID:4be30e7b-96a7-4425-9169-5e8ca21b4096@pictures.london
DTSTART:20260421T164500Z
DTEND:20260421T184900Z
SUMMARY:Akira (1988) at Everyman Crystal Palace
DESCRIPTION:Akira (1988)\nat Everyman Crystal Palace\nFormat: DCP_4K\nBook: https://purchase.everymancinema.com/launch/ticketing/57c49ca9-15e7-542d-927e-5fe71feae82b\nvia Pictures (pictures.london)
LOCATION:Everyman Crystal Palace\, 25 Church Road\, Crystal Palace\, SE19 2AE
URL:https://purchase.everymancinema.com/launch/ticketing/57c49ca9-15e7-542d-927e-5fe71feae82b
STATUS:CONFIRMED
END:VEVENT
END:VCALENDAR