BEGIN:VCALENDAR
VERSION:2.0
PRODID:-//Pictures London//Cinema Listings//EN
CALSCALE:GREGORIAN
METHOD:PUBLISH
X-WR-CALNAME:Pictures London Cinema
BEGIN:VEVENT
UID:4b267c40-1b76-4144-a0b1-97a5103045a0@pictures.london
DTSTART:20260422T172000Z
DTEND:20260422T192700Z
SUMMARY:Michael (2026) at East Dulwich Picturehouse
DESCRIPTION:Michael (2026)\nat East Dulwich Picturehouse\nBook: https://www.picturehouses.com/movie-details/009/HO00017772/michael\nvia Pictures (pictures.london)
LOCATION:East Dulwich Picturehouse\, Lordship Lane\, East Dulwich\, SE22 8EW
URL:https://www.picturehouses.com/movie-details/009/HO00017772/michael
STATUS:CONFIRMED
END:VEVENT
END:VCALENDAR