BEGIN:VCALENDAR
VERSION:2.0
PRODID:-//Pictures London//Cinema Listings//EN
CALSCALE:GREGORIAN
METHOD:PUBLISH
X-WR-CALNAME:Pictures London Cinema
BEGIN:VEVENT
UID:4ab1e5e4-45b4-46a5-8152-cd1988ce0c3e@pictures.london
DTSTART:20260421T204000Z
DTEND:20260421T221100Z
SUMMARY:The Cars That Ate Paris p29 (1974) at BFI Southbank
DESCRIPTION:The Cars That Ate Paris p29 (1974)\nat BFI Southbank\nFormat: DIGITAL 4K\nBook: https://whatson.bfi.org.uk/Online/default.asp?doWork::WScontent::search=1&BOparam::WScontent::search::article_search_id=25E7EA2E-291F-44F9-8EBC-E560154FDAEB&BOset::WScontent::SearchCriteria::search_criteria=The%20Cars%20That%20Ate%20Paris%20p29\nvia Pictures (pictures.london)
LOCATION:BFI Southbank\, Belvedere Road\, South Bank\, SE1 8XT
URL:https://whatson.bfi.org.uk/Online/default.asp?doWork::WScontent::search=1&BOparam::WScontent::search::article_search_id=25E7EA2E-291F-44F9-8EBC-E560154FDAEB&BOset::WScontent::SearchCriteria::search_criteria=The%20Cars%20That%20Ate%20Paris%20p29
STATUS:CONFIRMED
END:VEVENT
END:VCALENDAR