BEGIN:VCALENDAR
VERSION:2.0
PRODID:-//Pictures London//Cinema Listings//EN
CALSCALE:GREGORIAN
METHOD:PUBLISH
X-WR-CALNAME:Pictures London Cinema
BEGIN:VEVENT
UID:4a7ef05c-b7c1-41dc-9051-39b01329fca6@pictures.london
DTSTART:20260421T123000Z
DTEND:20260421T125500Z
SUMMARY:Tabby McTat (2024) at Ealing Picturehouse
DESCRIPTION:Tabby McTat (2024)\nat Ealing Picturehouse\nBook: https://www.picturehouses.com/movie-details/031/HO00015460/tabby-mctat\nvia Pictures (pictures.london)
LOCATION:Ealing Picturehouse\, The Ealing Cinema\, Ealing Green\, Ealing\, W5 2PA
URL:https://www.picturehouses.com/movie-details/031/HO00015460/tabby-mctat
STATUS:CONFIRMED
END:VEVENT
END:VCALENDAR