BEGIN:VCALENDAR
VERSION:2.0
PRODID:-//Pictures London//Cinema Listings//EN
CALSCALE:GREGORIAN
METHOD:PUBLISH
X-WR-CALNAME:Pictures London Cinema
BEGIN:VEVENT
UID:4a60f51b-24cf-42b0-9657-00f6a744b3f3@pictures.london
DTSTART:20260422T193000Z
DTEND:20260422T220800Z
SUMMARY:There Will Be Blood (2007) at Prince Charles Cinema
DESCRIPTION:There Will Be Blood (2007)\nat Prince Charles Cinema\nFormat: 35MM\nBook: https://princecharlescinema.com/prince-charles-cinema/booknow/31625572\nvia Pictures (pictures.london)
LOCATION:Prince Charles Cinema\, 7 Leicester Place\, Leicester Square\, WC2H 7BY
URL:https://princecharlescinema.com/prince-charles-cinema/booknow/31625572
STATUS:CONFIRMED
END:VEVENT
END:VCALENDAR