BEGIN:VCALENDAR
VERSION:2.0
PRODID:-//Pictures London//Cinema Listings//EN
CALSCALE:GREGORIAN
METHOD:PUBLISH
X-WR-CALNAME:Pictures London Cinema
BEGIN:VEVENT
UID:4a16970b-2498-495b-badf-619588855cb2@pictures.london
DTSTART:20260421T180000Z
DTEND:20260421T194700Z
SUMMARY:California Schemin' (2026) at Peckhamplex
DESCRIPTION:California Schemin' (2026)\nat Peckhamplex\nBook: https://ticketing.eu.veezi.com/purchase/79573?siteToken=zkD3Bh7H%2fkuZI9VTgCj%2bgg%3d%3d\nvia Pictures (pictures.london)
LOCATION:Peckhamplex\, 95A Rye Lane\, Peckham\, SE15 4ST
URL:https://ticketing.eu.veezi.com/purchase/79573?siteToken=zkD3Bh7H%2fkuZI9VTgCj%2bgg%3d%3d
STATUS:CONFIRMED
END:VEVENT
END:VCALENDAR