BEGIN:VCALENDAR
VERSION:2.0
PRODID:-//Pictures London//Cinema Listings//EN
CALSCALE:GREGORIAN
METHOD:PUBLISH
X-WR-CALNAME:Pictures London Cinema
BEGIN:VEVENT
UID:49fa1ed4-0b47-4f77-9b59-6a0f64e1483c@pictures.london
DTSTART:20260426T190000Z
DTEND:20260426T212700Z
SUMMARY:Mulholland Drive (2001) at Prince Charles Cinema
DESCRIPTION:Mulholland Drive (2001)\nat Prince Charles Cinema\nFormat: 35MM\nBook: https://princecharlescinema.com/prince-charles-cinema/booknow/31625623\nvia Pictures (pictures.london)
LOCATION:Prince Charles Cinema\, 7 Leicester Place\, Leicester Square\, WC2H 7BY
URL:https://princecharlescinema.com/prince-charles-cinema/booknow/31625623
STATUS:CONFIRMED
END:VEVENT
END:VCALENDAR