BEGIN:VCALENDAR
VERSION:2.0
PRODID:-//Pictures London//Cinema Listings//EN
CALSCALE:GREGORIAN
METHOD:PUBLISH
X-WR-CALNAME:Pictures London Cinema
BEGIN:VEVENT
UID:498a1f54-e88f-4d03-aed7-841ce2a68cc6@pictures.london
DTSTART:20260420T192000Z
DTEND:20260420T212000Z
SUMMARY:Diamanti at Cine Lumiere
DESCRIPTION:Diamanti\nat Cine Lumiere\nBook: https://cinelumiere.savoysystems.co.uk/CineLumiere.dll/TSelectItems.waSelectItemsPrompt.TcsWebMenuItem_600.TcsWebTab_601.TcsPerformance_6699147.TcsSection_1928774\nvia Pictures (pictures.london)
LOCATION:Cine Lumiere\, 17 Queensberry Place\, South Kensington\, SW7 2DT
URL:https://cinelumiere.savoysystems.co.uk/CineLumiere.dll/TSelectItems.waSelectItemsPrompt.TcsWebMenuItem_600.TcsWebTab_601.TcsPerformance_6699147.TcsSection_1928774
STATUS:CONFIRMED
END:VEVENT
END:VCALENDAR