BEGIN:VCALENDAR
VERSION:2.0
PRODID:-//Pictures London//Cinema Listings//EN
CALSCALE:GREGORIAN
METHOD:PUBLISH
X-WR-CALNAME:Pictures London Cinema
BEGIN:VEVENT
UID:49214196-d7c6-4943-89cc-736734150ee9@pictures.london
DTSTART:20260421T145000Z
DTEND:20260421T164700Z
SUMMARY:The Stranger (2022) at Greenwich Picturehouse
DESCRIPTION:The Stranger (2022)\nat Greenwich Picturehouse\nBook: https://www.picturehouses.com/movie-details/021/HO00017653/the-stranger\nvia Pictures (pictures.london)
LOCATION:Greenwich Picturehouse\, 180 Greenwich High Road\, Greenwich\, SE10 9HB
URL:https://www.picturehouses.com/movie-details/021/HO00017653/the-stranger
STATUS:CONFIRMED
END:VEVENT
END:VCALENDAR