BEGIN:VCALENDAR
VERSION:2.0
PRODID:-//Pictures London//Cinema Listings//EN
CALSCALE:GREGORIAN
METHOD:PUBLISH
X-WR-CALNAME:Pictures London Cinema
BEGIN:VEVENT
UID:491c6f2f-3b93-4178-b578-30a54d5f0651@pictures.london
DTSTART:20260425T140000Z
DTEND:20260425T152400Z
SUMMARY:The Lodger (1944) at Prince Charles Cinema
DESCRIPTION:The Lodger (1944)\nat Prince Charles Cinema\nBook: https://princecharlescinema.com/prince-charles-cinema/booknow/31625617\nvia Pictures (pictures.london)
LOCATION:Prince Charles Cinema\, 7 Leicester Place\, Leicester Square\, WC2H 7BY
URL:https://princecharlescinema.com/prince-charles-cinema/booknow/31625617
STATUS:CONFIRMED
END:VEVENT
END:VCALENDAR