BEGIN:VCALENDAR
VERSION:2.0
PRODID:-//Pictures London//Cinema Listings//EN
CALSCALE:GREGORIAN
METHOD:PUBLISH
X-WR-CALNAME:Pictures London Cinema
BEGIN:VEVENT
UID:480d7a84-2007-4848-8487-ac77e16e65f3@pictures.london
DTSTART:20260426T170000Z
DTEND:20260426T175500Z
SUMMARY:Puppygirl (2025) at Barbican Cinema
DESCRIPTION:Puppygirl (2025)\nat Barbican Cinema\nEvent: premiere\nBook: https://tickets.barbican.org.uk/choose-seats/3392403\nvia Pictures (pictures.london)
LOCATION:Barbican Cinema\, Silk Street\, Barbican\, EC2Y 8DS
URL:https://tickets.barbican.org.uk/choose-seats/3392403
STATUS:CONFIRMED
END:VEVENT
END:VCALENDAR